BEGIN:VCALENDAR
VERSION:2.0
PRODID:-//Сімейний центр розвитку Uniclub - ECPv5.16.4//NONSGML v1.0//EN
CALSCALE:GREGORIAN
METHOD:PUBLISH
X-WR-CALNAME:Сімейний центр розвитку Uniclub
X-ORIGINAL-URL:https://uniclub.com.ua
X-WR-CALDESC:Мероприятия для Сімейний центр розвитку Uniclub
BEGIN:VTIMEZONE
TZID:UTC
BEGIN:STANDARD
TZOFFSETFROM:+0000
TZOFFSETTO:+0000
TZNAME:UTC
DTSTART:20190101T000000
END:STANDARD
END:VTIMEZONE
BEGIN:VEVENT
DTSTART;TZID=UTC:20191028T080000
DTEND;TZID=UTC:20191101T190000
DTSTAMP:20260425T133833
CREATED:20191023T204639Z
LAST-MODIFIED:20220730T135745Z
UID:10869-1572249600-1572634800@uniclub.com.ua
SUMMARY:Осенний лагерь Хочу стать видеоблогером!
DESCRIPTION:На осенних каникулах у нас в Cемейный центр развития Uniclub будет работать дневной лагерь\, во время которого дети пройдут интенсивный курс видеоблогинга.⠀\nДля эффективного обучения используется интересная подача материала. \nПрограмма включает: \n\nЭтапы создания видео.⠀\nОсновы монтажа.\nОсновы композиции кадра.\nСекреты съемочного процесса.\nАктерское мастерство.\nТехника речи и постановка голоса.\nИмидж. Позиционирование.\nВидео-маркетинг и способы монетизации видео.\n\nКаждое утро после сбора детей обсуждаются планы на предстоящие занятия в приятной атмосфере с чаем и угощениями. \nФрагменты из жизни лагеря: \n\nанглийский и speaking club\nсовременные танцы\, брейк данс\, вокал\, художественная студия\nмастер-классы\nигры и прогулки на улице\nигро-клуб\nарт-терапия\n\n31 октября тематический день Helloween🎃👻⠀
URL:https://uniclub.com.ua/event/unicamp/
LOCATION:Семейный центр развития Uniclub\, ул. Маршала Тимошенко\, 9\, Киев\, Украина
CATEGORIES:Выходной день
ATTACH;FMTTYPE=image/png:https://uniclub.com.ua/wp-content/uploads/IMG_9201.png
END:VEVENT
END:VCALENDAR