BEGIN:VCALENDAR
VERSION:2.0
PRODID:-//Сімейний центр розвитку Uniclub - ECPv5.16.4//NONSGML v1.0//EN
CALSCALE:GREGORIAN
METHOD:PUBLISH
X-WR-CALNAME:Сімейний центр розвитку Uniclub
X-ORIGINAL-URL:https://uniclub.com.ua
X-WR-CALDESC:Мероприятия для Сімейний центр розвитку Uniclub
BEGIN:VTIMEZONE
TZID:Europe/Helsinki
BEGIN:DAYLIGHT
TZOFFSETFROM:+0200
TZOFFSETTO:+0300
TZNAME:EEST
DTSTART:20190331T010000
END:DAYLIGHT
BEGIN:STANDARD
TZOFFSETFROM:+0300
TZOFFSETTO:+0200
TZNAME:EET
DTSTART:20191027T010000
END:STANDARD
END:VTIMEZONE
BEGIN:VEVENT
DTSTART;TZID=Europe/Helsinki:20190421T103000
DTEND;TZID=Europe/Helsinki:20190421T113000
DTSTAMP:20260421T151847
CREATED:20180420T050011Z
LAST-MODIFIED:20220730T135754Z
UID:9924-1555842600-1555846200@uniclub.com.ua
SUMMARY:Ресурсные встречи для мам с малышами
DESCRIPTION:Первые несколько лет жизни малыша – очень интересное и важное время\, но оно и часто бывает самым тяжелым для мамы. Бывают дни\, когда маме очень хочется поддержки и общения. \nЗапускаем регулярные ресурсные встречи для мам с малышами. Вы сможете вместе с ребёнком интересно и с пользой проводить время.\n \nЧто будем делать: \n\nискать ресурс и находить его\nрисовать и обучаться интуитивному рисованию\nлепить создавая образы\nтворить свою вселенную\, через мандалотерапию\n\nЗанятия не повторяются\, но несменными остаётся внутренний Выдох от тревог\, творчество\, душевная атмосфера\, терпимость и нахождение ресурса\, энергия и поддержка. \nСтоимость: 150 грн \nПроводит:\nЮлия Демьяненко – практикующий психолог\, своим любимым делом успешно занимается более 10 лет.\nРаботает с детьми и взрослыми. Применяет в работе с клиентами гештальт-подход\, методы экзистенциальной психологии\, позитивной психотерапии и арт терапии\, работает с ассоциативными картами.
URL:https://uniclub.com.ua/event/resursnie-vstrechi/
LOCATION:Семейный центр развития Uniclub\, ул. Маршала Тимошенко\, 9\, Киев\, Украина
CATEGORIES:Родители
ATTACH;FMTTYPE=image/png:https://uniclub.com.ua/wp-content/uploads/2019/04/IMG_5695.png
END:VEVENT
END:VCALENDAR