BEGIN:VCALENDAR
VERSION:2.0
PRODID:-//Сімейний центр розвитку Uniclub - ECPv5.16.4//NONSGML v1.0//EN
CALSCALE:GREGORIAN
METHOD:PUBLISH
X-WR-CALNAME:Сімейний центр розвитку Uniclub
X-ORIGINAL-URL:https://uniclub.com.ua
X-WR-CALDESC:Мероприятия для Сімейний центр розвитку Uniclub
BEGIN:VTIMEZONE
TZID:UTC
BEGIN:STANDARD
TZOFFSETFROM:+0000
TZOFFSETTO:+0000
TZNAME:UTC
DTSTART:20190101T000000
END:STANDARD
END:VTIMEZONE
BEGIN:VEVENT
DTSTART;TZID=UTC:20190512T100000
DTEND;TZID=UTC:20190512T160000
DTSTAMP:20260421T152510
CREATED:20190509T115023Z
LAST-MODIFIED:20220730T135747Z
UID:10494-1557655200-1557676800@uniclub.com.ua
SUMMARY:День матери в Семейном центре развития Uniclub
DESCRIPTION:Приглашаем вас в 10:00 к нам на праздник «Мама\, я тебя люблю!»⠀ \nВ этот праздничный день для вас:⠀\n♥ Тренировка Мама и малыш\n♥ Парный фитнес\n♥ Зажигательная Zumba⠀\n♥ Уникальная кардио тренировка в ботинках Kangoo Jumps⠀\n♥ Занятие UniEnglishFun — английский для каждого!⠀\n♥ Актёрские игры и тренажи в Театральной студии⠀\n♥ Крутой танцевальный мастер-класс для деток⠀\n♥ Увлекательное рисование в Художественной студии \nМастер-класс\, на котором детки сделают подарок любимой маме.⠀\nАстролог расскажет вам о предназначении и кармических задачах.⠀\nМамы опробуют на себе\, что такое кинезиотейпирование и его волшебное действие.⠀\nВсе это сохранит на память профессиональный фотограф.⠀ \nЗапись у администратора: 098 0552811
URL:https://uniclub.com.ua/event/mothersday/
LOCATION:Семейный центр развития Uniclub\, ул. Маршала Тимошенко\, 9\, Киев\, Украина
CATEGORIES:Выходной день,Праздник
ATTACH;FMTTYPE=image/jpeg:https://uniclub.com.ua/wp-content/uploads/IMG_6345-e1643994812113.jpg
END:VEVENT
END:VCALENDAR