BEGIN:VCALENDAR
VERSION:2.0
PRODID:-//Сімейний центр розвитку Uniclub - ECPv5.16.4//NONSGML v1.0//EN
CALSCALE:GREGORIAN
METHOD:PUBLISH
X-WR-CALNAME:Сімейний центр розвитку Uniclub
X-ORIGINAL-URL:https://uniclub.com.ua
X-WR-CALDESC:Мероприятия для Сімейний центр розвитку Uniclub
BEGIN:VTIMEZONE
TZID:UTC
BEGIN:STANDARD
TZOFFSETFROM:+0000
TZOFFSETTO:+0000
TZNAME:UTC
DTSTART:20190101T000000
END:STANDARD
END:VTIMEZONE
BEGIN:VEVENT
DTSTART;TZID=UTC:20190421T120000
DTEND;TZID=UTC:20190421T130000
DTSTAMP:20260421T151908
CREATED:20190403T192751Z
LAST-MODIFIED:20220730T135750Z
UID:10304-1555848000-1555851600@uniclub.com.ua
SUMMARY:Кризисы в отношениях: как возродить любовь
DESCRIPTION:Сложный период в отношениях бывает у каждой пары. Кризис в отношениях – крайне нежелательное явление для любой пары. Каждый из партнеров начинает ставить под сомнение свой выбор и видит его совершенно не в таком свете\, как это было изначально. \nНа встрече с семейным психологом мы рассмотрим такие вопросы: \n\nПочему мужья уходят из семьи во время беременности\, или в первый год жизни ребёнка.\nКризис рождения ребёнка.\nПричины появления любовных треугольников.\nНужно ли сохранять семью ради детей.\nЧто означают кризисы 1\, 3\, 7\, 12\, 16 лет жизни семьи.\nКак выйти из кризиса.\nЧто не стоит прощать.\nКак выйти из кризиса в отношениях\, чтобы сохранить чувства.\n\nЛектор:\nЮлия Демьяненко – практикующий психолог\, своим любимым делом успешно занимается более 10 лет.\nРаботает с детьми и взрослыми. Применяет в работе с клиентами гештальт-подход\, методы экзистенциальной психологии\, позитивной психотерапии и арт терапии\, работает с ассоциативными картами.
URL:https://uniclub.com.ua/event/krizisy-v-otnosheniyah/
LOCATION:Семейный центр развития Uniclub\, ул. Маршала Тимошенко\, 9\, Киев\, Украина
CATEGORIES:Отношения
ATTACH;FMTTYPE=image/png:https://uniclub.com.ua/wp-content/uploads/2019/04/IMG_5693.png
END:VEVENT
END:VCALENDAR